BEGIN:VCALENDAR
VERSION:2.0
PRODID:-//Explore Fountain County - ECPv6.15.20//NONSGML v1.0//EN
CALSCALE:GREGORIAN
METHOD:PUBLISH
X-ORIGINAL-URL:https://explorefountaincounty.org
X-WR-CALDESC:Events for Explore Fountain County
REFRESH-INTERVAL;VALUE=DURATION:PT1H
X-Robots-Tag:noindex
X-PUBLISHED-TTL:PT1H
BEGIN:VTIMEZONE
TZID:UTC
BEGIN:STANDARD
TZOFFSETFROM:+0000
TZOFFSETTO:+0000
TZNAME:UTC
DTSTART:20240101T000000
END:STANDARD
END:VTIMEZONE
BEGIN:VEVENT
DTSTART;TZID=UTC:20250927T090000
DTEND;TZID=UTC:20250927T170000
DTSTAMP:20260421T214504
CREATED:20250304T135456Z
LAST-MODIFIED:20250304T135412Z
UID:399-1758963600-1758992400@explorefountaincounty.org
SUMMARY:Covington Apple Fest
DESCRIPTION:The Covington Business Association will be sponsoring its 34th Apple Fest on Saturday\, September 27\, 2025 on the Downtown Square. \nThe day will include the Fireman’s Pancake Breakfast\, and then a variety of vendors for people to explore\, including artisans\, food trucks\, and food tents. In addition\, there will be a variety of baking contests and activities that include vocal performing artists\, bands\, and other live music. Also\, there will be a car show\, and antique tractor show\, Coffing Brothers apples. Local dining and local shopping. \nFor more details visit Covington Apple Fest.
URL:https://explorefountaincounty.org/event/covington-apple-fest/
ATTACH;FMTTYPE=image/jpeg:https://explorefountaincounty.org/wp-content/uploads/2021/11/Covington-Apple-Fest-img.jpg
END:VEVENT
END:VCALENDAR