BEGIN:VCALENDAR
VERSION:2.0
PRODID:-//Explore Fountain County - ECPv6.15.20//NONSGML v1.0//EN
CALSCALE:GREGORIAN
METHOD:PUBLISH
X-ORIGINAL-URL:https://explorefountaincounty.org
X-WR-CALDESC:Events for Explore Fountain County
REFRESH-INTERVAL;VALUE=DURATION:PT1H
X-Robots-Tag:noindex
X-PUBLISHED-TTL:PT1H
BEGIN:VTIMEZONE
TZID:America/Indiana/Indianapolis
BEGIN:DAYLIGHT
TZOFFSETFROM:-0500
TZOFFSETTO:-0400
TZNAME:EDT
DTSTART:20220313T070000
END:DAYLIGHT
BEGIN:STANDARD
TZOFFSETFROM:-0400
TZOFFSETTO:-0500
TZNAME:EST
DTSTART:20221106T060000
END:STANDARD
BEGIN:DAYLIGHT
TZOFFSETFROM:-0500
TZOFFSETTO:-0400
TZNAME:EDT
DTSTART:20230312T070000
END:DAYLIGHT
BEGIN:STANDARD
TZOFFSETFROM:-0400
TZOFFSETTO:-0500
TZNAME:EST
DTSTART:20231105T060000
END:STANDARD
BEGIN:DAYLIGHT
TZOFFSETFROM:-0500
TZOFFSETTO:-0400
TZNAME:EDT
DTSTART:20240310T070000
END:DAYLIGHT
BEGIN:STANDARD
TZOFFSETFROM:-0400
TZOFFSETTO:-0500
TZNAME:EST
DTSTART:20241103T060000
END:STANDARD
END:VTIMEZONE
BEGIN:VEVENT
DTSTART;TZID=America/Indiana/Indianapolis:20230618T170000
DTEND;TZID=America/Indiana/Indianapolis:20230618T210000
DTSTAMP:20260421T135931
CREATED:20230227T184945Z
LAST-MODIFIED:20230228T132614Z
UID:574-1687107600-1687122000@explorefountaincounty.org
SUMMARY:Twilight Music Series
DESCRIPTION:At Twilight Music Series\, we believe local musicians are family. We invite you to join with other like-minded music lovers who wish to support and enjoy these first-class artists.  Performers are chosen to reflect the diverse talent in Western Indiana and the surrounding area\, and McDonald Park is the perfect size venue to create an intimate musical experience. \nThe music series is held the third Sunday of June (beginning June 18) through October at 6:00pm.  Come at 5:00pm with your appetizer and join your neighbors as we gather for an hour of mingling prior to the start of the music.  This unique music series provides the opportunity to meet each artist in a cozy setting. We hope you’ll sit back\, relax\, and enjoy a moving musical experience with some of the area’s finest musicians in this magical setting of McDonald Park. \nFor more information visit: Twilight Music Series
URL:https://explorefountaincounty.org/event/twilight-music-series/
LOCATION:Indiana
ATTACH;FMTTYPE=image/jpeg:https://explorefountaincounty.org/wp-content/uploads/2023/02/Twilight-Music-Series.jpg
END:VEVENT
END:VCALENDAR