BEGIN:VCALENDAR
VERSION:2.0
PRODID:-//Explore Fountain County - ECPv6.15.20//NONSGML v1.0//EN
CALSCALE:GREGORIAN
METHOD:PUBLISH
X-WR-CALNAME:Explore Fountain County
X-ORIGINAL-URL:https://explorefountaincounty.org
X-WR-CALDESC:Events for Explore Fountain County
REFRESH-INTERVAL;VALUE=DURATION:PT1H
X-Robots-Tag:noindex
X-PUBLISHED-TTL:PT1H
BEGIN:VTIMEZONE
TZID:America/Indiana/Indianapolis
BEGIN:DAYLIGHT
TZOFFSETFROM:-0500
TZOFFSETTO:-0400
TZNAME:EDT
DTSTART:20220313T070000
END:DAYLIGHT
BEGIN:STANDARD
TZOFFSETFROM:-0400
TZOFFSETTO:-0500
TZNAME:EST
DTSTART:20221106T060000
END:STANDARD
BEGIN:DAYLIGHT
TZOFFSETFROM:-0500
TZOFFSETTO:-0400
TZNAME:EDT
DTSTART:20230312T070000
END:DAYLIGHT
BEGIN:STANDARD
TZOFFSETFROM:-0400
TZOFFSETTO:-0500
TZNAME:EST
DTSTART:20231105T060000
END:STANDARD
BEGIN:DAYLIGHT
TZOFFSETFROM:-0500
TZOFFSETTO:-0400
TZNAME:EDT
DTSTART:20240310T070000
END:DAYLIGHT
BEGIN:STANDARD
TZOFFSETFROM:-0400
TZOFFSETTO:-0500
TZNAME:EST
DTSTART:20241103T060000
END:STANDARD
END:VTIMEZONE
BEGIN:VEVENT
DTSTART;TZID=America/Indiana/Indianapolis:20230602T170000
DTEND;TZID=America/Indiana/Indianapolis:20230602T210000
DTSTAMP:20260421T135656
CREATED:20220218T211833Z
LAST-MODIFIED:20220726T123904Z
UID:455-1685725200-1685739600@explorefountaincounty.org
SUMMARY:Covington Street Fest
DESCRIPTION:The Covington Street Fest will be back for its annual event on Friday\, June 2\, 2023. \nStreet Fest will be held in downtown Covington on the Square. \nStreet Fest offers a variety of activities for people of all ages including music\, live entertainment\, artisans\, vendors\, family fun\, magic\, art\, food\, local shopping\, bubbles\, face painting\, bounce houses\, contests\, a golf cart giveaway\, and MORE! \nFor more details visit Street Fest.
URL:https://explorefountaincounty.org/event/covington-street-fest/
LOCATION:Indiana
ATTACH;FMTTYPE=image/jpeg:https://explorefountaincounty.org/wp-content/uploads/2022/02/Street-Fest.jpg
END:VEVENT
END:VCALENDAR